BEGIN:VCALENDAR
VERSION:2.0
PRODID:-//eventon.com NONSGML v1.0//EN
CALSCALE:GREGORIAN
METHOD:PUBLISH
BEGIN:VEVENT
UID:69ebadf953ebe
DTSTAMP:20260424T175257Z
DTSTART:20260410T180000Z
DTEND:20260412T130000Z
LOCATION:
SUMMARY:VII RALLY JAÉN\,  MAR DE OLIVOS
DESCRIPTION:La capital será protagonista en la séptima edición del Campe
 onato de España Rallyes Todo Terreno “Jaén Mar de Olivos”\,  que orga
 niza el club del mismo nombre y que se celebrará del viernes 10 al domingo
  12 de abril. La competición contempla la celebración de una ceremonia de
  podios que será[..]\nhttps://patronatodeportesjaen.es/events/vii-rally-ja
 en-mar-de-olivos/
URL:https://patronatodeportesjaen.es/events/vii-rally-jaen-mar-de-olivos/
END:VEVENT
END:VCALENDAR