BEGIN:VCALENDAR
VERSION:2.0
PRODID:-//eventon.com NONSGML v1.0//EN
CALSCALE:GREGORIAN
METHOD:PUBLISH
BEGIN:VEVENT
UID:69eceb588e99a
DTSTAMP:20260425T162704Z
DTSTART:20210324T190000Z
DTEND:20210506T190000Z
LOCATION:
SUMMARY:INSCRIPCIÓN III TRAIL SOLIDARIO IES FUENTE DE LA PEÑA A BENEFICIO DE JAÉN INCLUSIVA
DESCRIPTION:Abierto el plazo de inscripción para participar en la III edic
 ión del III Trail solidario que organiza el Instituto de Educación Secund
 aria Fuente de la Peña (Jaén) con la colaboración del Patronato de Depor
 tes del Ayuntamiento de Jaén a beneficio de la Federación Jaén Inclusiva
 . Este evento deportivo tendrá lugar[..]\nhttps://patronatodeportesjaen.es
 /events/1a-prueba-menores-clasificatorio-tyc-premium-1-2/
URL:https://patronatodeportesjaen.es/events/1a-prueba-menores-clasificatorio-tyc-premium-1-2/
END:VEVENT
END:VCALENDAR