BEGIN:VCALENDAR
VERSION:2.0
PRODID:-//eventon.com NONSGML v1.0//EN
CALSCALE:GREGORIAN
METHOD:PUBLISH
BEGIN:VEVENT
UID:69e863aa5c603
DTSTAMP:20260422T055906Z
DTSTART:20210927T220000Z
DTEND:20211021T105900Z
LOCATION:
SUMMARY:INSCRIPCIÓN I DÍA DE LA BICICLETA DE JAÉN
DESCRIPTION:Cadena 100 y el Ayuntamiento de Jaén te invitan a participar e
 n la primera edición del Día de la Bicicleta que organiza la cadena con l
 a colaboración del Patronato Municipal de Deportes que se celebrará el 24
  de octubre. La inscripción\,  online y gratuita\,  estará abierta hasta 
 el 20 de[..]\nhttps://patronatodeportesjaen.es/events/inscripcion-i-dia-de-
 la-bicicleta-de-jaen/
URL:https://patronatodeportesjaen.es/events/inscripcion-i-dia-de-la-bicicleta-de-jaen/
END:VEVENT
END:VCALENDAR