BEGIN:VCALENDAR
VERSION:2.0
PRODID:-//eventon.com NONSGML v1.0//EN
CALSCALE:GREGORIAN
METHOD:PUBLISH
BEGIN:VEVENT
UID:69e55a545302f
DTSTAMP:20260419T224228Z
DTSTART:20211219T210000Z
DTEND:20211220T010000Z
LOCATION:
SUMMARY:TORNEO DE TENIS SOLIDARIO III MEMORIAL ALONSO ALCAZAR
DESCRIPTION:TORNEO DE TENIS SOLIDARIO III MEMORIAL ALONSO ALCAZAR Torneo de
  tenis solidario en memoria de Alonso Alcazar. Se disputará en formato de 
 partidos individuales cortos. La inscripción que ha de aportar cada jugado
 r son dos kg. de comida no perecedera que será donada al Banco de Alimento
 s de Jaén. Organiza:[..]\nhttps://patronatodeportesjaen.es/events/torneo-d
 e-tenis-solidario-iii-memorial-alonso-alcazar/
URL:https://patronatodeportesjaen.es/events/torneo-de-tenis-solidario-iii-memorial-alonso-alcazar/
END:VEVENT
END:VCALENDAR