BEGIN:VCALENDAR
VERSION:2.0
PRODID:-//eventon.com NONSGML v1.0//EN
CALSCALE:GREGORIAN
METHOD:PUBLISH
BEGIN:VEVENT
UID:69e73d6c71076
DTSTAMP:20260421T090340Z
DTSTART:20201222T120000Z
DTEND:20210113T050000Z
LOCATION:
SUMMARY:2ª Inscripción Escuelas y Cursos Municipales
DESCRIPTION:Plazas limitadas y grupos reducidos según nivel. Las clases se
  llevarán a cabo teniendo en cuenta las medidas de prevención e higiene f
 rente a Covid19 teniendo en cuenta la normativa establecida. Inscríbete a 
 los cursos AQUÍ Inscríbete a las escuelas municipales AQUÍ\nhttps://patr
 onatodeportesjaen.es/events/2a-inscripcion-escuelas-municipales/
URL:https://patronatodeportesjaen.es/events/2a-inscripcion-escuelas-municipales/
END:VEVENT
END:VCALENDAR